BEGIN:VCALENDAR
VERSION:2.0
PRODID:-//SC Votes - South Carolina Election Commission - ECPv6.14.2//NONSGML v1.0//EN
CALSCALE:GREGORIAN
METHOD:PUBLISH
X-ORIGINAL-URL:https://scvotes.gov
X-WR-CALDESC:Events for SC Votes - South Carolina Election Commission
REFRESH-INTERVAL;VALUE=DURATION:PT1H
X-Robots-Tag:noindex
X-PUBLISHED-TTL:PT1H

BEGIN:VEVENT
DTSTART;TZID=America/New_York:20251118T070000
DTEND;TZID=America/New_York:20251118T190000
DTSTAMP:20260423T004019
CREATED:20251201T173750Z
LAST-MODIFIED:20251202T200645Z
UID:10005352-1763449200-1763492400@scvotes.gov
SUMMARY:Allendale Town Council Special Election
DESCRIPTION:
URL:https://scvotes.gov/event/allendale-town-council-special-election/
CATEGORIES:03-ALLENDALE,Special
END:VEVENT
BEGIN:VEVENT
DTSTART;TZID=America/New_York:20251104T070000
DTEND;TZID=America/New_York:20251104T190000
DTSTAMP:20260423T004019
CREATED:20250113T210418Z
LAST-MODIFIED:20251201T173716Z
UID:10004511-1762239600-1762282800@scvotes.gov
SUMMARY:Town of Ulmer General Election
DESCRIPTION:
URL:https://scvotes.gov/event/town-of-ulmer-general-election/
CATEGORIES:03-ALLENDALE,General
END:VEVENT
BEGIN:VEVENT
DTSTART;TZID=America/New_York:20251104T070000
DTEND;TZID=America/New_York:20251104T190000
DTSTAMP:20260423T004019
CREATED:20250113T210417Z
LAST-MODIFIED:20251201T173706Z
UID:10004510-1762239600-1762282800@scvotes.gov
SUMMARY:Town of Sycamore General Election
DESCRIPTION:
URL:https://scvotes.gov/event/town-of-sycamore-general-election/
CATEGORIES:03-ALLENDALE,General
END:VEVENT
BEGIN:VEVENT
DTSTART;TZID=America/New_York:20251104T070000
DTEND;TZID=America/New_York:20251104T190000
DTSTAMP:20260423T004019
CREATED:20250113T204605Z
LAST-MODIFIED:20251215T171349Z
UID:10004477-1762239600-1762282800@scvotes.gov
SUMMARY:Town of Fairfax General Election
DESCRIPTION:
URL:https://scvotes.gov/event/town-of-fairfax-general-election-3/
CATEGORIES:03-ALLENDALE,General
END:VEVENT
BEGIN:VEVENT
DTSTART;TZID=America/New_York:20250729T070000
DTEND;TZID=America/New_York:20250729T190000
DTSTAMP:20260423T004019
CREATED:20250804T162932Z
LAST-MODIFIED:20251215T170835Z
UID:10004798-1753772400-1753815600@scvotes.gov
SUMMARY:Allendale City Council Special Election
DESCRIPTION:
URL:https://scvotes.gov/event/allendale-city-council-special-election-4/
CATEGORIES:03-ALLENDALE,Special
END:VEVENT
BEGIN:VEVENT
DTSTART;TZID=America/New_York:20250715T070000
DTEND;TZID=America/New_York:20250715T190000
DTSTAMP:20260423T004019
CREATED:20250428T144251Z
LAST-MODIFIED:20251215T170820Z
UID:10004672-1752562800-1752606000@scvotes.gov
SUMMARY:Allendale City Council Special Election
DESCRIPTION:
URL:https://scvotes.gov/event/allendale-city-council-special-election-3/
CATEGORIES:03-ALLENDALE,Special
END:VEVENT
BEGIN:VEVENT
DTSTART;TZID=America/New_York:20241119T070000
DTEND;TZID=America/New_York:20241119T190000
DTSTAMP:20260423T004019
CREATED:20241112T161401Z
LAST-MODIFIED:20241112T161401Z
UID:10004307-1731999600-1732042800@scvotes.gov
SUMMARY:Town of Allendale General Election
DESCRIPTION:
URL:https://scvotes.gov/event/town-of-allendale-general-election-3/
CATEGORIES:03-ALLENDALE,General
END:VEVENT
BEGIN:VEVENT
DTSTART;TZID=America/New_York:20241105T070000
DTEND;TZID=America/New_York:20241105T190000
DTSTAMP:20260423T004019
CREATED:20240916T163537Z
LAST-MODIFIED:20241031T141521Z
UID:10004062-1730790000-1730833200@scvotes.gov
SUMMARY:Town of Allendale Special Election
DESCRIPTION:
URL:https://scvotes.gov/event/town-of-allendale-special-election-2/
CATEGORIES:03-ALLENDALE,Special
END:VEVENT
BEGIN:VEVENT
DTSTART;TZID=America/New_York:20241105T070000
DTEND;TZID=America/New_York:20241105T190000
DTSTAMP:20260423T004019
CREATED:20240401T152353Z
LAST-MODIFIED:20241031T141506Z
UID:10003968-1730790000-1730833200@scvotes.gov
SUMMARY:Town of Allendale General Election
DESCRIPTION:
URL:https://scvotes.gov/event/town-of-allendale-general-election/
CATEGORIES:03-ALLENDALE,General
END:VEVENT
BEGIN:VEVENT
DTSTART;TZID=America/New_York:20240123T070000
DTEND;TZID=America/New_York:20240123T190000
DTSTAMP:20260423T004019
CREATED:20240115T170437Z
LAST-MODIFIED:20241125T192409Z
UID:10003447-1705993200-1706036400@scvotes.gov
SUMMARY:Allendale City Council Special Election
DESCRIPTION:
URL:https://scvotes.gov/event/allendale-city-council-special-election-2/
CATEGORIES:03-ALLENDALE,Special
END:VEVENT
BEGIN:VEVENT
DTSTART;TZID=America/New_York:20231107T070000
DTEND;TZID=America/New_York:20231107T190000
DTSTAMP:20260423T004019
CREATED:20230303T164045Z
LAST-MODIFIED:20231106T172256Z
UID:10003344-1699340400-1699383600@scvotes.gov
SUMMARY:Town of Fairfax General Election
DESCRIPTION:
URL:https://scvotes.gov/event/town-of-fairfax-general-election/
CATEGORIES:03-ALLENDALE,General
END:VEVENT
BEGIN:VEVENT
DTSTART;TZID=America/New_York:20230905T070000
DTEND;TZID=America/New_York:20230905T190000
DTSTAMP:20260423T004019
CREATED:20230802T203727Z
LAST-MODIFIED:20231106T170903Z
UID:10003375-1693897200-1693940400@scvotes.gov
SUMMARY:Allendale School Board Dist 2 Spec Elec
DESCRIPTION:
URL:https://scvotes.gov/event/allendale-school-board-dist-2-spec-elec/
CATEGORIES:03-ALLENDALE,Special
END:VEVENT
BEGIN:VEVENT
DTSTART;TZID=America/New_York:20230228T070000
DTEND;TZID=America/New_York:20230228T190000
DTSTAMP:20260423T004019
CREATED:20230213T232520Z
LAST-MODIFIED:20231106T155808Z
UID:10003570-1677567600-1677610800@scvotes.gov
SUMMARY:Allendale School Board Special Elec
DESCRIPTION:
URL:https://scvotes.gov/event/allendale-school-board-special-elec/
CATEGORIES:03-ALLENDALE,Special
END:VEVENT
BEGIN:VEVENT
DTSTART;TZID=America/New_York:20260423T004019
DTEND;TZID=America/New_York:20260423T004019
DTSTAMP:20260423T004019
CREATED:20240819T145012Z
LAST-MODIFIED:20241028T143620Z
UID:10004048-0-0@scvotes.gov
SUMMARY:Town of Allendale Special Election
DESCRIPTION:
URL:https://scvotes.gov/event/town-of-allendale-special-election/
CATEGORIES:03-ALLENDALE,Special
END:VEVENT
BEGIN:VEVENT
DTSTART;TZID=America/New_York:20260423T004019
DTEND;TZID=America/New_York:20260423T004019
DTSTAMP:20260423T004019
CREATED:20240708T164852Z
LAST-MODIFIED:20260204T161242Z
UID:10003587-0-0@scvotes.gov
SUMMARY:Town of Allendale General Election
DESCRIPTION:
URL:https://scvotes.gov/event/town-of-allendale-general-election-2/
CATEGORIES:03-ALLENDALE,General
END:VEVENT
BEGIN:VEVENT
DTSTART;TZID=America/New_York:20260423T004019
DTEND;TZID=America/New_York:20260423T004019
DTSTAMP:20260423T004019
CREATED:20231213T195955Z
LAST-MODIFIED:20251103T194638Z
UID:10003425-0-0@scvotes.gov
SUMMARY:Allendale City Council Special Election
DESCRIPTION:
URL:https://scvotes.gov/event/allendale-city-council-special-election/
CATEGORIES:03-ALLENDALE,Special
END:VEVENT
BEGIN:VEVENT
DTSTART;TZID=America/New_York:20260423T004019
DTEND;TZID=America/New_York:20260423T004019
DTSTAMP:20260423T004019
CREATED:20231127T202738Z
LAST-MODIFIED:20251103T195152Z
UID:10004234-0-0@scvotes.gov
SUMMARY:Town of Fairfax General Election
DESCRIPTION:
URL:https://scvotes.gov/event/town-of-fairfax-general-election-2/
CATEGORIES:03-ALLENDALE,General
END:VEVENT
END:VCALENDAR