BEGIN:VCALENDAR
VERSION:2.0
PRODID:-//SC Votes - South Carolina Election Commission - ECPv6.14.2//NONSGML v1.0//EN
CALSCALE:GREGORIAN
METHOD:PUBLISH
X-WR-CALNAME:SC Votes - South Carolina Election Commission
X-ORIGINAL-URL:https://scvotes.gov
X-WR-CALDESC:Events for SC Votes - South Carolina Election Commission
REFRESH-INTERVAL;VALUE=DURATION:PT1H
X-Robots-Tag:noindex
X-PUBLISHED-TTL:PT1H
BEGIN:VTIMEZONE
TZID:America/New_York
BEGIN:DAYLIGHT
TZOFFSETFROM:-0500
TZOFFSETTO:-0400
TZNAME:EDT
DTSTART:20230312T070000
END:DAYLIGHT
BEGIN:STANDARD
TZOFFSETFROM:-0400
TZOFFSETTO:-0500
TZNAME:EST
DTSTART:20231105T060000
END:STANDARD
BEGIN:DAYLIGHT
TZOFFSETFROM:-0500
TZOFFSETTO:-0400
TZNAME:EDT
DTSTART:20240310T070000
END:DAYLIGHT
BEGIN:STANDARD
TZOFFSETFROM:-0400
TZOFFSETTO:-0500
TZNAME:EST
DTSTART:20241103T060000
END:STANDARD
BEGIN:DAYLIGHT
TZOFFSETFROM:-0500
TZOFFSETTO:-0400
TZNAME:EDT
DTSTART:20250309T070000
END:DAYLIGHT
BEGIN:STANDARD
TZOFFSETFROM:-0400
TZOFFSETTO:-0500
TZNAME:EST
DTSTART:20251102T060000
END:STANDARD
END:VTIMEZONE
BEGIN:VEVENT
DTSTART;TZID=America/New_York:20251104T070000
DTEND;TZID=America/New_York:20251104T190000
DTSTAMP:20260423T035525
CREATED:20250113T204404Z
LAST-MODIFIED:20251215T171334Z
UID:10004475-1762239600-1762282800@scvotes.gov
SUMMARY:Town of Elgin General Election
DESCRIPTION:
URL:https://scvotes.gov/event/town-of-elgin-general-election-3/
CATEGORIES:28-KERSHAW,General
END:VEVENT
BEGIN:VEVENT
DTSTART;TZID=America/New_York:20251104T070000
DTEND;TZID=America/New_York:20251104T190000
DTSTAMP:20260423T035525
CREATED:20250113T204319Z
LAST-MODIFIED:20251215T171235Z
UID:10004467-1762239600-1762282800@scvotes.gov
SUMMARY:Town of Bethune General Election
DESCRIPTION:
URL:https://scvotes.gov/event/town-of-bethune-general-election-3/
CATEGORIES:28-KERSHAW,General
END:VEVENT
BEGIN:VEVENT
DTSTART;TZID=America/New_York:20250603T070000
DTEND;TZID=America/New_York:20250603T190000
DTSTAMP:20260423T035525
CREATED:20251215T170759Z
LAST-MODIFIED:20251231T131916Z
UID:10005397-1748934000-1748977200@scvotes.gov
SUMMARY:State House District 50 Special Election
DESCRIPTION:
URL:https://scvotes.gov/event/state-house-district-50-special-election-sumter-11/
CATEGORIES:28-KERSHAW,31-LEE,43-SUMTER,Special
END:VEVENT
BEGIN:VEVENT
DTSTART;TZID=America/New_York:20250603T070000
DTEND;TZID=America/New_York:20250603T190000
DTSTAMP:20260423T035525
CREATED:20251114T155550Z
LAST-MODIFIED:20251202T200838Z
UID:10005299-1748934000-1748977200@scvotes.gov
SUMMARY:State House District 50 Special Election
DESCRIPTION:
URL:https://scvotes.gov/event/state-house-district-50-special-election-lee-2/
CATEGORIES:28-KERSHAW,31-LEE,43-SUMTER,Special
END:VEVENT
BEGIN:VEVENT
DTSTART;TZID=America/New_York:20250603T070000
DTEND;TZID=America/New_York:20250603T190000
DTSTAMP:20260423T035525
CREATED:20251114T153404Z
LAST-MODIFIED:20251114T153415Z
UID:10005242-1748934000-1748977200@scvotes.gov
SUMMARY:State House District 50 Special Election
DESCRIPTION:
URL:https://scvotes.gov/event/state-house-district-50-special-election-lee/
CATEGORIES:28-KERSHAW,31-LEE,Special
END:VEVENT
BEGIN:VEVENT
DTSTART;TZID=America/New_York:20250603T070000
DTEND;TZID=America/New_York:20250603T190000
DTSTAMP:20260423T035525
CREATED:20251020T151730Z
LAST-MODIFIED:20251020T173146Z
UID:10005152-1748934000-1748977200@scvotes.gov
SUMMARY:State House District 50 Special Election
DESCRIPTION:
URL:https://scvotes.gov/event/state-house-district-50-special-election-sumter-9/
CATEGORIES:28-KERSHAW,31-LEE,43-SUMTER,Special
END:VEVENT
BEGIN:VEVENT
DTSTART;TZID=America/New_York:20250603T070000
DTEND;TZID=America/New_York:20250603T190000
DTSTAMP:20260423T035525
CREATED:20251006T190547Z
LAST-MODIFIED:20251006T191431Z
UID:10005101-1748934000-1748977200@scvotes.gov
SUMMARY:State House District 50 Special Election
DESCRIPTION:
URL:https://scvotes.gov/event/state-house-district-50-special-election-sumter-8/
CATEGORIES:28-KERSHAW,31-LEE,43-SUMTER,Special
END:VEVENT
BEGIN:VEVENT
DTSTART;TZID=America/New_York:20250603T070000
DTEND;TZID=America/New_York:20250603T190000
DTSTAMP:20260423T035525
CREATED:20250922T153508Z
LAST-MODIFIED:20251001T135054Z
UID:10005054-1748934000-1748977200@scvotes.gov
SUMMARY:State House District 50 Special Election
DESCRIPTION:
URL:https://scvotes.gov/event/state-house-district-50-special-election-sumter-7/
CATEGORIES:28-KERSHAW,31-LEE,43-SUMTER,Special
END:VEVENT
BEGIN:VEVENT
DTSTART;TZID=America/New_York:20250603T070000
DTEND;TZID=America/New_York:20250603T190000
DTSTAMP:20260423T035525
CREATED:20250908T140816Z
LAST-MODIFIED:20250911T165139Z
UID:10004964-1748934000-1748977200@scvotes.gov
SUMMARY:State House District 50 Special Election
DESCRIPTION:
URL:https://scvotes.gov/event/state-house-district-50-special-election-sumter-6/
CATEGORIES:28-KERSHAW,31-LEE,43-SUMTER,Special
END:VEVENT
BEGIN:VEVENT
DTSTART;TZID=America/New_York:20250603T070000
DTEND;TZID=America/New_York:20250603T190000
DTSTAMP:20260423T035525
CREATED:20250825T145030Z
LAST-MODIFIED:20250827T215850Z
UID:10004907-1748934000-1748977200@scvotes.gov
SUMMARY:State House District 50 Special Election
DESCRIPTION:
URL:https://scvotes.gov/event/state-house-district-50-special-election-sumter-5/
CATEGORIES:28-KERSHAW,31-LEE,43-SUMTER,Special
END:VEVENT
BEGIN:VEVENT
DTSTART;TZID=America/New_York:20250603T070000
DTEND;TZID=America/New_York:20250603T190000
DTSTAMP:20260423T035525
CREATED:20250811T190446Z
LAST-MODIFIED:20250813T154312Z
UID:10004852-1748934000-1748977200@scvotes.gov
SUMMARY:State House District 50 Special Election
DESCRIPTION:
URL:https://scvotes.gov/event/state-house-district-50-special-election-sumter-4/
CATEGORIES:28-KERSHAW,31-LEE,43-SUMTER,Special
END:VEVENT
BEGIN:VEVENT
DTSTART;TZID=America/New_York:20250603T070000
DTEND;TZID=America/New_York:20250603T190000
DTSTAMP:20260423T035525
CREATED:20250804T162821Z
LAST-MODIFIED:20250804T162826Z
UID:10004793-1748934000-1748977200@scvotes.gov
SUMMARY:State House District 50 Special Election
DESCRIPTION:
URL:https://scvotes.gov/event/state-house-district-50-special-election-sumter-3/
CATEGORIES:28-KERSHAW,31-LEE,43-SUMTER,Special
END:VEVENT
BEGIN:VEVENT
DTSTART;TZID=America/New_York:20250603T070000
DTEND;TZID=America/New_York:20250603T190000
DTSTAMP:20260423T035525
CREATED:20250310T154110Z
LAST-MODIFIED:20250725T105318Z
UID:10004643-1748934000-1748977200@scvotes.gov
SUMMARY:State House District 50 Special Election
DESCRIPTION:
URL:https://scvotes.gov/event/state-house-district-50-special-election-sumter/
CATEGORIES:43-SUMTER,Special
END:VEVENT
BEGIN:VEVENT
DTSTART;TZID=America/New_York:20250401T070000
DTEND;TZID=America/New_York:20250401T190000
DTSTAMP:20260423T035525
CREATED:20251215T170658Z
LAST-MODIFIED:20251231T131918Z
UID:10005390-1743490800-1743534000@scvotes.gov
SUMMARY:State House District 50 Primary
DESCRIPTION:
URL:https://scvotes.gov/event/state-house-district-50-primary-sumter-14/
CATEGORIES:28-KERSHAW,31-LEE,43-SUMTER,General
END:VEVENT
BEGIN:VEVENT
DTSTART;TZID=America/New_York:20250401T070000
DTEND;TZID=America/New_York:20250401T190000
DTSTAMP:20260423T035525
CREATED:20251114T155500Z
LAST-MODIFIED:20251202T200839Z
UID:10005294-1743490800-1743534000@scvotes.gov
SUMMARY:State House District 50 Primary
DESCRIPTION:
URL:https://scvotes.gov/event/state-house-district-50-primary-sumter-13/
CATEGORIES:28-KERSHAW,31-LEE,43-SUMTER,General
END:VEVENT
BEGIN:VEVENT
DTSTART;TZID=America/New_York:20250401T070000
DTEND;TZID=America/New_York:20250401T190000
DTSTAMP:20260423T035525
CREATED:20251114T153314Z
LAST-MODIFIED:20251114T154832Z
UID:10005235-1743490800-1743534000@scvotes.gov
SUMMARY:State House District 50 Primary
DESCRIPTION:
URL:https://scvotes.gov/event/state-house-district-50-primary-sumter-12/
CATEGORIES:28-KERSHAW,31-LEE,43-SUMTER,General
END:VEVENT
BEGIN:VEVENT
DTSTART;TZID=America/New_York:20250401T070000
DTEND;TZID=America/New_York:20250401T190000
DTSTAMP:20260423T035525
CREATED:20251020T151632Z
LAST-MODIFIED:20251020T151634Z
UID:10005145-1743490800-1743534000@scvotes.gov
SUMMARY:State House District 50 Primary
DESCRIPTION:
URL:https://scvotes.gov/event/state-house-district-50-primary-sumter-10/
CATEGORIES:28-KERSHAW,31-LEE,43-SUMTER,General
END:VEVENT
BEGIN:VEVENT
DTSTART;TZID=America/New_York:20250401T070000
DTEND;TZID=America/New_York:20250401T190000
DTSTAMP:20260423T035525
CREATED:20251006T190448Z
LAST-MODIFIED:20251006T190451Z
UID:10005094-1743490800-1743534000@scvotes.gov
SUMMARY:State House District 50 Primary
DESCRIPTION:
URL:https://scvotes.gov/event/state-house-district-50-primary-sumter-9/
CATEGORIES:28-KERSHAW,31-LEE,43-SUMTER,General
END:VEVENT
BEGIN:VEVENT
DTSTART;TZID=America/New_York:20250401T070000
DTEND;TZID=America/New_York:20250401T190000
DTSTAMP:20260423T035525
CREATED:20250922T153414Z
LAST-MODIFIED:20250922T153417Z
UID:10005046-1743490800-1743534000@scvotes.gov
SUMMARY:State House District 50 Primary
DESCRIPTION:
URL:https://scvotes.gov/event/state-house-district-50-primary-sumter-8/
CATEGORIES:28-KERSHAW,31-LEE,43-SUMTER,General
END:VEVENT
BEGIN:VEVENT
DTSTART;TZID=America/New_York:20250401T070000
DTEND;TZID=America/New_York:20250401T190000
DTSTAMP:20260423T035525
CREATED:20250911T143747Z
LAST-MODIFIED:20250911T143752Z
UID:10005008-1743490800-1743534000@scvotes.gov
SUMMARY:State House District 50 Primary
DESCRIPTION:
URL:https://scvotes.gov/event/state-house-district-50-primary-kershaw/
CATEGORIES:28-KERSHAW,43-SUMTER,General
END:VEVENT
BEGIN:VEVENT
DTSTART;TZID=America/New_York:20250401T070000
DTEND;TZID=America/New_York:20250401T190000
DTSTAMP:20260423T035525
CREATED:20250908T140713Z
LAST-MODIFIED:20250908T140716Z
UID:10004955-1743490800-1743534000@scvotes.gov
SUMMARY:State House District 50 Primary
DESCRIPTION:
URL:https://scvotes.gov/event/state-house-district-50-primary-sumter-6/
CATEGORIES:28-KERSHAW,31-LEE,43-SUMTER,General
END:VEVENT
BEGIN:VEVENT
DTSTART;TZID=America/New_York:20250401T070000
DTEND;TZID=America/New_York:20250401T190000
DTSTAMP:20260423T035525
CREATED:20250825T144936Z
LAST-MODIFIED:20250827T215851Z
UID:10004900-1743490800-1743534000@scvotes.gov
SUMMARY:State House District 50 Primary
DESCRIPTION:
URL:https://scvotes.gov/event/state-house-district-50-primary-sumter-5/
CATEGORIES:28-KERSHAW,31-LEE,43-SUMTER,General
END:VEVENT
BEGIN:VEVENT
DTSTART;TZID=America/New_York:20250401T070000
DTEND;TZID=America/New_York:20250401T190000
DTSTAMP:20260423T035525
CREATED:20250811T190350Z
LAST-MODIFIED:20250813T154315Z
UID:10004845-1743490800-1743534000@scvotes.gov
SUMMARY:State House District 50 Primary
DESCRIPTION:
URL:https://scvotes.gov/event/state-house-district-50-primary-sumter-4/
CATEGORIES:28-KERSHAW,31-LEE,43-SUMTER,General
END:VEVENT
BEGIN:VEVENT
DTSTART;TZID=America/New_York:20250401T070000
DTEND;TZID=America/New_York:20250401T190000
DTSTAMP:20260423T035525
CREATED:20250804T162647Z
LAST-MODIFIED:20250804T162651Z
UID:10004786-1743490800-1743534000@scvotes.gov
SUMMARY:State House District 50 Primary
DESCRIPTION:
URL:https://scvotes.gov/event/state-house-district-50-primary-sumter-3/
CATEGORIES:28-KERSHAW,31-LEE,43-SUMTER,General
END:VEVENT
BEGIN:VEVENT
DTSTART;TZID=America/New_York:20250401T070000
DTEND;TZID=America/New_York:20250401T190000
DTSTAMP:20260423T035525
CREATED:20250326T144138Z
LAST-MODIFIED:20250725T105318Z
UID:10004654-1743490800-1743534000@scvotes.gov
SUMMARY:State House District 50 Primary
DESCRIPTION:
URL:https://scvotes.gov/event/state-house-district-50-primary-sumter/
CATEGORIES:43-SUMTER,Primary
END:VEVENT
BEGIN:VEVENT
DTSTART;TZID=America/New_York:20250218T070000
DTEND;TZID=America/New_York:20250218T190000
DTSTAMP:20260423T035525
CREATED:20250113T203919Z
LAST-MODIFIED:20251215T170609Z
UID:10004422-1739862000-1739905200@scvotes.gov
SUMMARY:City of Camden Council Special Election
DESCRIPTION:
URL:https://scvotes.gov/event/city-of-camden-council-special-election/
CATEGORIES:28-KERSHAW,Special
END:VEVENT
BEGIN:VEVENT
DTSTART;TZID=America/New_York:20241105T070000
DTEND;TZID=America/New_York:20241105T190000
DTSTAMP:20260423T035525
CREATED:20240916T163508Z
LAST-MODIFIED:20241031T135829Z
UID:10004057-1730790000-1730833200@scvotes.gov
SUMMARY:Kershaw County Council Chair Spec Elec
DESCRIPTION:
URL:https://scvotes.gov/event/kershaw-county-council-chair-spec-elec/
CATEGORIES:28-KERSHAW,Special
END:VEVENT
BEGIN:VEVENT
DTSTART;TZID=America/New_York:20241105T070000
DTEND;TZID=America/New_York:20241105T190000
DTSTAMP:20260423T035525
CREATED:20240913T203544Z
LAST-MODIFIED:20241031T135226Z
UID:10004051-1730790000-1730833200@scvotes.gov
SUMMARY:City of Camden General Election
DESCRIPTION:
URL:https://scvotes.gov/event/city-of-camden-general-election-2/
CATEGORIES:28-KERSHAW,General
END:VEVENT
BEGIN:VEVENT
DTSTART;TZID=America/New_York:20240806T070000
DTEND;TZID=America/New_York:20240806T190000
DTSTAMP:20260423T035525
CREATED:20240625T174830Z
LAST-MODIFIED:20241031T134343Z
UID:10003987-1722927600-1722970800@scvotes.gov
SUMMARY:Kershaw Co Council Chair Primary
DESCRIPTION:
URL:https://scvotes.gov/event/kershaw-co-council-chair-primary/
CATEGORIES:28-KERSHAW,Primary
END:VEVENT
BEGIN:VEVENT
DTSTART;TZID=America/New_York:20231107T070000
DTEND;TZID=America/New_York:20231107T190000
DTSTAMP:20260423T035525
CREATED:20230131T193321Z
LAST-MODIFIED:20231106T172054Z
UID:10003479-1699340400-1699383600@scvotes.gov
SUMMARY:Town of Elgin General Election
DESCRIPTION:
URL:https://scvotes.gov/event/town-of-elgin-general-election/
CATEGORIES:28-KERSHAW,General
END:VEVENT
END:VCALENDAR