BEGIN:VCALENDAR
VERSION:2.0
PRODID:-//SC Votes - South Carolina Election Commission - ECPv6.14.2//NONSGML v1.0//EN
CALSCALE:GREGORIAN
METHOD:PUBLISH
X-WR-CALNAME:SC Votes - South Carolina Election Commission
X-ORIGINAL-URL:https://scvotes.gov
X-WR-CALDESC:Events for SC Votes - South Carolina Election Commission
REFRESH-INTERVAL;VALUE=DURATION:PT1H
X-Robots-Tag:noindex
X-PUBLISHED-TTL:PT1H

BEGIN:VEVENT
DTSTART;TZID=America/New_York:20260414T070000
DTEND;TZID=America/New_York:20260414T190000
DTSTAMP:20260422T100107
CREATED:20251231T131210Z
LAST-MODIFIED:20260413T133818Z
UID:10005463-1776150000-1776193200@scvotes.gov
SUMMARY:Board of Education General Election
DESCRIPTION:
URL:https://scvotes.gov/event/board-of-education-general-election/
CATEGORIES:34-MARION,General
END:VEVENT
BEGIN:VEVENT
DTSTART;TZID=America/New_York:20260210T070000
DTEND;TZID=America/New_York:20260210T190000
DTSTAMP:20260422T100107
CREATED:20251231T131140Z
LAST-MODIFIED:20260413T133805Z
UID:10005446-1770706800-1770750000@scvotes.gov
SUMMARY:Town of Sellers General Election
DESCRIPTION:
URL:https://scvotes.gov/event/town-of-sellers-general-election-2/
CATEGORIES:34-MARION,General
END:VEVENT
BEGIN:VEVENT
DTSTART;TZID=America/New_York:20250408T070000
DTEND;TZID=America/New_York:20250408T190000
DTSTAMP:20260422T100107
CREATED:20250113T204021Z
LAST-MODIFIED:20251215T170708Z
UID:10004431-1744095600-1744138800@scvotes.gov
SUMMARY:City of Marion General Election
DESCRIPTION:
URL:https://scvotes.gov/event/city-of-marion-general-election-3/
CATEGORIES:34-MARION,General
END:VEVENT
BEGIN:VEVENT
DTSTART;TZID=America/New_York:20241105T070000
DTEND;TZID=America/New_York:20241105T190000
DTSTAMP:20260422T100107
CREATED:20240325T132957Z
LAST-MODIFIED:20241031T141723Z
UID:10003527-1730790000-1730833200@scvotes.gov
SUMMARY:Town of Nichols General Election
DESCRIPTION:
URL:https://scvotes.gov/event/town-of-nichols-general-election-3/
CATEGORIES:34-MARION,General
END:VEVENT
BEGIN:VEVENT
DTSTART;TZID=America/New_York:20241105T070000
DTEND;TZID=America/New_York:20241105T190000
DTSTAMP:20260422T100107
CREATED:20240325T132758Z
LAST-MODIFIED:20241031T135628Z
UID:10003526-1730790000-1730833200@scvotes.gov
SUMMARY:City of Mullins General Election
DESCRIPTION:
URL:https://scvotes.gov/event/city-of-mullins-general-election-3/
CATEGORIES:34-MARION,General
END:VEVENT
BEGIN:VEVENT
DTSTART;TZID=America/New_York:20240409T070000
DTEND;TZID=America/New_York:20240409T190000
DTSTAMP:20260422T100107
CREATED:20240115T170538Z
LAST-MODIFIED:20241031T133542Z
UID:10003459-1712646000-1712689200@scvotes.gov
SUMMARY:Marion County School Board General Elect
DESCRIPTION:
URL:https://scvotes.gov/event/marion-county-school-board-general-elect-3/
CATEGORIES:34-MARION,General
END:VEVENT
BEGIN:VEVENT
DTSTART;TZID=America/New_York:20230411T070000
DTEND;TZID=America/New_York:20230411T190000
DTSTAMP:20260422T100107
CREATED:20230131T192921Z
LAST-MODIFIED:20231106T160517Z
UID:10003385-1681196400-1681239600@scvotes.gov
SUMMARY:City of Marion General Election
DESCRIPTION:
URL:https://scvotes.gov/event/city-of-marion-general-election/
CATEGORIES:34-MARION,General
END:VEVENT
BEGIN:VEVENT
DTSTART;TZID=America/New_York:20221108T070000
DTEND;TZID=America/New_York:20221108T190000
DTSTAMP:20260422T100107
CREATED:20220829T210536Z
LAST-MODIFIED:20220829T221610Z
UID:10003298-1667890800-1667934000@scvotes.gov
SUMMARY:Town of Nichols General Election
DESCRIPTION:
URL:https://scvotes.gov/event/town-of-nichols-general-election/
CATEGORIES:34-MARION,General
END:VEVENT
BEGIN:VEVENT
DTSTART;TZID=America/New_York:20221108T070000
DTEND;TZID=America/New_York:20221108T190000
DTSTAMP:20260422T100107
CREATED:20220829T210535Z
LAST-MODIFIED:20220829T221610Z
UID:10003297-1667890800-1667934000@scvotes.gov
SUMMARY:City of Mullins General Election
DESCRIPTION:
URL:https://scvotes.gov/event/city-of-mullins-general-election/
CATEGORIES:34-MARION,General
END:VEVENT
BEGIN:VEVENT
DTSTART;TZID=America/New_York:20221004T070000
DTEND;TZID=America/New_York:20221004T190000
DTSTAMP:20260422T100107
CREATED:20220829T210405Z
LAST-MODIFIED:20220829T221440Z
UID:10003250-1664866800-1664910000@scvotes.gov
SUMMARY:Town of Sellers Special Election
DESCRIPTION:
URL:https://scvotes.gov/event/town-of-sellers-special-election/
CATEGORIES:34-MARION,Special
END:VEVENT
BEGIN:VEVENT
DTSTART;TZID=America/New_York:20220510T070000
DTEND;TZID=America/New_York:20220510T190000
DTSTAMP:20260422T100107
CREATED:20220829T210135Z
LAST-MODIFIED:20220829T221210Z
UID:10003105-1652166000-1652209200@scvotes.gov
SUMMARY:Marion County School Board General Elect
DESCRIPTION:
URL:https://scvotes.gov/event/marion-county-school-board-general-elect/
CATEGORIES:34-MARION,General
END:VEVENT
BEGIN:VEVENT
DTSTART;TZID=America/New_York:20220329T070000
DTEND;TZID=America/New_York:20220329T190000
DTSTAMP:20260422T100107
CREATED:20220829T205936Z
LAST-MODIFIED:20220829T221039Z
UID:10003163-1648537200-1648580400@scvotes.gov
SUMMARY:Marion City Council Dist 1 Spec Elect
DESCRIPTION:
URL:https://scvotes.gov/event/marion-city-council-dist-1-spec-elect/
CATEGORIES:34-MARION,Special
END:VEVENT
BEGIN:VEVENT
DTSTART;TZID=America/New_York:20220208T070000
DTEND;TZID=America/New_York:20220208T190000
DTSTAMP:20260422T100107
CREATED:20220829T205822Z
LAST-MODIFIED:20220829T220924Z
UID:10003139-1644303600-1644346800@scvotes.gov
SUMMARY:Town of Sellers General Election
DESCRIPTION:
URL:https://scvotes.gov/event/town-of-sellers-general-election/
CATEGORIES:34-MARION,General
END:VEVENT
BEGIN:VEVENT
DTSTART;TZID=America/New_York:20260422T100107
DTEND;TZID=America/New_York:20260422T100107
DTSTAMP:20260422T100107
CREATED:20240304T154423Z
LAST-MODIFIED:20260204T161253Z
UID:10003941-0-0@scvotes.gov
SUMMARY:Town of Nichols General Election
DESCRIPTION:
URL:https://scvotes.gov/event/town-of-nichols-general-election-2/
CATEGORIES:34-MARION,General
END:VEVENT
BEGIN:VEVENT
DTSTART;TZID=America/New_York:20260422T100107
DTEND;TZID=America/New_York:20260422T100107
DTSTAMP:20260422T100107
CREATED:20240304T154422Z
LAST-MODIFIED:20260204T161228Z
UID:10003940-0-0@scvotes.gov
SUMMARY:City of Mullins General Election
DESCRIPTION:
URL:https://scvotes.gov/event/city-of-mullins-general-election-2/
CATEGORIES:34-MARION,General
END:VEVENT
BEGIN:VEVENT
DTSTART;TZID=America/New_York:20260422T100107
DTEND;TZID=America/New_York:20260422T100107
DTSTAMP:20260422T100107
CREATED:20240109T140545Z
LAST-MODIFIED:20241028T143317Z
UID:10003875-0-0@scvotes.gov
SUMMARY:Marion County School Board General Elect
DESCRIPTION:
URL:https://scvotes.gov/event/marion-county-school-board-general-elect-2/
CATEGORIES:34-MARION,General
END:VEVENT
BEGIN:VEVENT
DTSTART;TZID=America/New_York:20260422T100107
DTEND;TZID=America/New_York:20260422T100107
DTSTAMP:20260422T100107
CREATED:20231127T195014Z
LAST-MODIFIED:20251103T194523Z
UID:10004111-0-0@scvotes.gov
SUMMARY:City of Marion General Election
DESCRIPTION:
URL:https://scvotes.gov/event/city-of-marion-general-election-2/
CATEGORIES:34-MARION,General
END:VEVENT
END:VCALENDAR