BEGIN:VCALENDAR
VERSION:2.0
PRODID:-//SC Votes - South Carolina Election Commission - ECPv6.14.2//NONSGML v1.0//EN
CALSCALE:GREGORIAN
METHOD:PUBLISH
X-WR-CALNAME:SC Votes - South Carolina Election Commission
X-ORIGINAL-URL:https://scvotes.gov
X-WR-CALDESC:Events for SC Votes - South Carolina Election Commission
REFRESH-INTERVAL;VALUE=DURATION:PT1H
X-Robots-Tag:noindex
X-PUBLISHED-TTL:PT1H

BEGIN:VEVENT
DTSTART;TZID=America/New_York:20220510T070000
DTEND;TZID=America/New_York:20220510T190000
DTSTAMP:20260422T115723
CREATED:20220829T210135Z
LAST-MODIFIED:20220829T221210Z
UID:10003105-1652166000-1652209200@scvotes.gov
SUMMARY:Marion County School Board General Elect
DESCRIPTION:
URL:https://scvotes.gov/event/marion-county-school-board-general-elect/
CATEGORIES:34-MARION,General
END:VEVENT
BEGIN:VEVENT
DTSTART;TZID=America/New_York:20220329T070000
DTEND;TZID=America/New_York:20220329T190000
DTSTAMP:20260422T115723
CREATED:20220829T205936Z
LAST-MODIFIED:20220829T221039Z
UID:10003163-1648537200-1648580400@scvotes.gov
SUMMARY:Marion City Council Dist 1 Spec Elect
DESCRIPTION:
URL:https://scvotes.gov/event/marion-city-council-dist-1-spec-elect/
CATEGORIES:34-MARION,Special
END:VEVENT
BEGIN:VEVENT
DTSTART;TZID=America/New_York:20220208T070000
DTEND;TZID=America/New_York:20220208T190000
DTSTAMP:20260422T115723
CREATED:20220829T205822Z
LAST-MODIFIED:20220829T220924Z
UID:10003139-1644303600-1644346800@scvotes.gov
SUMMARY:Town of Sellers General Election
DESCRIPTION:
URL:https://scvotes.gov/event/town-of-sellers-general-election/
CATEGORIES:34-MARION,General
END:VEVENT
BEGIN:VEVENT
DTSTART;TZID=America/New_York:20260422T115723
DTEND;TZID=America/New_York:20260422T115723
DTSTAMP:20260422T115723
CREATED:20240304T154423Z
LAST-MODIFIED:20260204T161253Z
UID:10003941-0-0@scvotes.gov
SUMMARY:Town of Nichols General Election
DESCRIPTION:
URL:https://scvotes.gov/event/town-of-nichols-general-election-2/
CATEGORIES:34-MARION,General
END:VEVENT
BEGIN:VEVENT
DTSTART;TZID=America/New_York:20260422T115723
DTEND;TZID=America/New_York:20260422T115723
DTSTAMP:20260422T115723
CREATED:20240304T154422Z
LAST-MODIFIED:20260204T161228Z
UID:10003940-0-0@scvotes.gov
SUMMARY:City of Mullins General Election
DESCRIPTION:
URL:https://scvotes.gov/event/city-of-mullins-general-election-2/
CATEGORIES:34-MARION,General
END:VEVENT
BEGIN:VEVENT
DTSTART;TZID=America/New_York:20260422T115723
DTEND;TZID=America/New_York:20260422T115723
DTSTAMP:20260422T115723
CREATED:20240109T140545Z
LAST-MODIFIED:20241028T143317Z
UID:10003875-0-0@scvotes.gov
SUMMARY:Marion County School Board General Elect
DESCRIPTION:
URL:https://scvotes.gov/event/marion-county-school-board-general-elect-2/
CATEGORIES:34-MARION,General
END:VEVENT
BEGIN:VEVENT
DTSTART;TZID=America/New_York:20260422T115723
DTEND;TZID=America/New_York:20260422T115723
DTSTAMP:20260422T115723
CREATED:20231127T195014Z
LAST-MODIFIED:20251103T194523Z
UID:10004111-0-0@scvotes.gov
SUMMARY:City of Marion General Election
DESCRIPTION:
URL:https://scvotes.gov/event/city-of-marion-general-election-2/
CATEGORIES:34-MARION,General
END:VEVENT
END:VCALENDAR