BEGIN:VCALENDAR
VERSION:2.0
PRODID:-//SC Votes - South Carolina Election Commission - ECPv6.14.2//NONSGML v1.0//EN
CALSCALE:GREGORIAN
METHOD:PUBLISH
X-WR-CALNAME:SC Votes - South Carolina Election Commission
X-ORIGINAL-URL:https://scvotes.gov
X-WR-CALDESC:Events for SC Votes - South Carolina Election Commission
REFRESH-INTERVAL;VALUE=DURATION:PT1H
X-Robots-Tag:noindex
X-PUBLISHED-TTL:PT1H

BEGIN:VEVENT
DTSTART;TZID=America/New_York:20260331T070000
DTEND;TZID=America/New_York:20260331T190000
DTSTAMP:20260422T183303
CREATED:20260217T144142Z
LAST-MODIFIED:20260413T133810Z
UID:10005588-1774940400-1774983600@scvotes.gov
SUMMARY:Prosperity Town Council Special Election
DESCRIPTION:
URL:https://scvotes.gov/event/prosperity-town-council-special-election-2/
CATEGORIES:36-NEWBERRY,Special
END:VEVENT
BEGIN:VEVENT
DTSTART;TZID=America/New_York:20251230T070000
DTEND;TZID=America/New_York:20251230T190000
DTSTAMP:20260422T183303
CREATED:20251202T200817Z
LAST-MODIFIED:20251202T200817Z
UID:10005385-1767078000-1767121200@scvotes.gov
SUMMARY:Town of Silverstreet Special Election
DESCRIPTION:
URL:https://scvotes.gov/event/town-of-silverstreet-special-election/
CATEGORIES:36-NEWBERRY,Special
END:VEVENT
BEGIN:VEVENT
DTSTART;TZID=America/New_York:20251118T070000
DTEND;TZID=America/New_York:20251118T190000
DTSTAMP:20260422T183303
CREATED:20251202T200509Z
LAST-MODIFIED:20251202T200747Z
UID:10005374-1763449200-1763492400@scvotes.gov
SUMMARY:Town of Prosperity GE 2 TC Seats / Mayor
DESCRIPTION:
URL:https://scvotes.gov/event/town-of-prosperity-ge-2-tc-seats-mayor-3/
CATEGORIES:36-NEWBERRY,General
END:VEVENT
BEGIN:VEVENT
DTSTART;TZID=America/New_York:20251104T070000
DTEND;TZID=America/New_York:20251104T190000
DTSTAMP:20260422T183303
CREATED:20250310T154545Z
LAST-MODIFIED:20251201T173606Z
UID:10004649-1762239600-1762282800@scvotes.gov
SUMMARY:Town of Prosperity GE 2 TC Seats / Mayor
DESCRIPTION:
URL:https://scvotes.gov/event/town-of-prosperity-ge-2-tc-seats-mayor/
CATEGORIES:36-NEWBERRY,General
END:VEVENT
BEGIN:VEVENT
DTSTART;TZID=America/New_York:20251104T070000
DTEND;TZID=America/New_York:20251104T190000
DTSTAMP:20260422T183303
CREATED:20250310T154451Z
LAST-MODIFIED:20251215T171434Z
UID:10004644-1762239600-1762282800@scvotes.gov
SUMMARY:Town of Little Mountain GE 2 TC / Mayor
DESCRIPTION:
URL:https://scvotes.gov/event/town-of-little-mountain-ge-2-tc-mayor/
CATEGORIES:36-NEWBERRY,General
END:VEVENT
BEGIN:VEVENT
DTSTART;TZID=America/New_York:20251104T070000
DTEND;TZID=America/New_York:20251104T190000
DTSTAMP:20260422T183303
CREATED:20250211T145928Z
LAST-MODIFIED:20250211T145928Z
UID:10004636-1762239600-1762282800@scvotes.gov
SUMMARY:Town of Little Mountain General Election
DESCRIPTION:
URL:https://scvotes.gov/event/town-of-little-mountain-general-election/
CATEGORIES:36-NEWBERRY,General
END:VEVENT
BEGIN:VEVENT
DTSTART;TZID=America/New_York:20251104T070000
DTEND;TZID=America/New_York:20251104T190000
DTSTAMP:20260422T183303
CREATED:20250211T145652Z
LAST-MODIFIED:20251215T171049Z
UID:10004629-1762239600-1762282800@scvotes.gov
SUMMARY:City of Newberry GE Council Seats 2\,4\,6
DESCRIPTION:
URL:https://scvotes.gov/event/city-of-newberry-ge-council-seats-246/
CATEGORIES:36-NEWBERRY,General
END:VEVENT
BEGIN:VEVENT
DTSTART;TZID=America/New_York:20251104T070000
DTEND;TZID=America/New_York:20251104T190000
DTSTAMP:20260422T183303
CREATED:20250127T223808Z
LAST-MODIFIED:20250127T223808Z
UID:10004592-1762239600-1762282800@scvotes.gov
SUMMARY:Town of Prosperity General Election
DESCRIPTION:
URL:https://scvotes.gov/event/town-of-prosperity-general-election-3/
CATEGORIES:36-NEWBERRY,General
END:VEVENT
BEGIN:VEVENT
DTSTART;TZID=America/New_York:20251104T070000
DTEND;TZID=America/New_York:20251104T190000
DTSTAMP:20260422T183303
CREATED:20250127T214944Z
LAST-MODIFIED:20250127T214944Z
UID:10004538-1762239600-1762282800@scvotes.gov
SUMMARY:City of Newberry General Election
DESCRIPTION:
URL:https://scvotes.gov/event/city-of-newberry-general-election-3/
CATEGORIES:36-NEWBERRY,General
END:VEVENT
BEGIN:VEVENT
DTSTART;TZID=America/New_York:20241217T070000
DTEND;TZID=America/New_York:20241217T190000
DTSTAMP:20260422T183303
CREATED:20241031T142308Z
LAST-MODIFIED:20241031T142308Z
UID:10003648-1734418800-1734462000@scvotes.gov
SUMMARY:Newberry City Council District 2 Spec El
DESCRIPTION:
URL:https://scvotes.gov/event/newberry-city-council-district-2-spec-el/
CATEGORIES:36-NEWBERRY,Special
END:VEVENT
BEGIN:VEVENT
DTSTART;TZID=America/New_York:20241105T070000
DTEND;TZID=America/New_York:20241105T190000
DTSTAMP:20260422T183303
CREATED:20240916T163622Z
LAST-MODIFIED:20241031T141906Z
UID:10004069-1730790000-1730833200@scvotes.gov
SUMMARY:Town of Whitmire General Election
DESCRIPTION:
URL:https://scvotes.gov/event/town-of-whitmire-general-election-2/
CATEGORIES:36-NEWBERRY,General
END:VEVENT
BEGIN:VEVENT
DTSTART;TZID=America/New_York:20241105T070000
DTEND;TZID=America/New_York:20241105T190000
DTSTAMP:20260422T183303
CREATED:20240916T163607Z
LAST-MODIFIED:20241031T141837Z
UID:10004067-1730790000-1730833200@scvotes.gov
SUMMARY:Town of Silverstreet General Election
DESCRIPTION:
URL:https://scvotes.gov/event/town-of-silverstreet-general-election-2/
CATEGORIES:36-NEWBERRY,General
END:VEVENT
BEGIN:VEVENT
DTSTART;TZID=America/New_York:20241105T070000
DTEND;TZID=America/New_York:20241105T190000
DTSTAMP:20260422T183303
CREATED:20240916T163523Z
LAST-MODIFIED:20241031T141506Z
UID:10004061-1730790000-1730833200@scvotes.gov
SUMMARY:Pomaria Town Council General Election
DESCRIPTION:
URL:https://scvotes.gov/event/pomaria-town-council-general-election-2/
CATEGORIES:36-NEWBERRY,General
END:VEVENT
BEGIN:VEVENT
DTSTART;TZID=America/New_York:20241105T070000
DTEND;TZID=America/New_York:20241105T190000
DTSTAMP:20260422T183303
CREATED:20240724T162456Z
LAST-MODIFIED:20241031T135830Z
UID:10004036-1730790000-1730833200@scvotes.gov
SUMMARY:Little Mtn Town Council Seat 4 Spec Elec
DESCRIPTION:
URL:https://scvotes.gov/event/little-mtn-town-council-seat-4-spec-elec-2/
CATEGORIES:36-NEWBERRY,Special
END:VEVENT
BEGIN:VEVENT
DTSTART;TZID=America/New_York:20240611T070000
DTEND;TZID=America/New_York:20240611T190000
DTSTAMP:20260422T183303
CREATED:20240325T132743Z
LAST-MODIFIED:20241031T134223Z
UID:10003523-1718089200-1718132400@scvotes.gov
SUMMARY:Peak Mayor and Town Council Spec Elec
DESCRIPTION:
URL:https://scvotes.gov/event/peak-mayor-and-town-council-spec-elec-2/
CATEGORIES:36-NEWBERRY,Special
END:VEVENT
BEGIN:VEVENT
DTSTART;TZID=America/New_York:20240409T070000
DTEND;TZID=America/New_York:20240409T190000
DTSTAMP:20260422T183303
CREATED:20240401T151527Z
LAST-MODIFIED:20241031T133542Z
UID:10003530-1712646000-1712689200@scvotes.gov
SUMMARY:Little Mtn Town Council Special Election
DESCRIPTION:
URL:https://scvotes.gov/event/little-mtn-town-council-special-election-3/
CATEGORIES:36-NEWBERRY,Special
END:VEVENT
BEGIN:VEVENT
DTSTART;TZID=America/New_York:20240326T070000
DTEND;TZID=America/New_York:20240326T190000
DTSTAMP:20260422T183303
CREATED:20240325T131901Z
LAST-MODIFIED:20241031T133053Z
UID:10003943-1711436400-1711479600@scvotes.gov
SUMMARY:Little Mtn Town Council Special Election
DESCRIPTION:
URL:https://scvotes.gov/event/little-mtn-town-council-special-election-2/
CATEGORIES:36-NEWBERRY,Special
END:VEVENT
BEGIN:VEVENT
DTSTART;TZID=America/New_York:20240326T070000
DTEND;TZID=America/New_York:20240326T190000
DTSTAMP:20260422T183303
CREATED:20240130T160013Z
LAST-MODIFIED:20240130T160013Z
UID:10003468-1711436400-1711479600@scvotes.gov
SUMMARY:Little Mountain Town Seats 1&2 Special E
DESCRIPTION:
URL:https://scvotes.gov/event/little-mountain-town-seats-12-special-e/
CATEGORIES:36-NEWBERRY,Special
END:VEVENT
BEGIN:VEVENT
DTSTART;TZID=America/New_York:20231107T070000
DTEND;TZID=America/New_York:20231107T190000
DTSTAMP:20260422T183303
CREATED:20230802T205427Z
LAST-MODIFIED:20231106T171319Z
UID:10003765-1699340400-1699383600@scvotes.gov
SUMMARY:Newberry County Seat 2 Special Election
DESCRIPTION:
URL:https://scvotes.gov/event/newberry-county-seat-2-special-election/
CATEGORIES:36-NEWBERRY,Special
END:VEVENT
BEGIN:VEVENT
DTSTART;TZID=America/New_York:20231107T070000
DTEND;TZID=America/New_York:20231107T190000
DTSTAMP:20260422T183303
CREATED:20230131T193506Z
LAST-MODIFIED:20231025T185541Z
UID:10003514-1699340400-1699383600@scvotes.gov
SUMMARY:Town of Prosperity General Election
DESCRIPTION:
URL:https://scvotes.gov/event/town-of-prosperity-general-election/
CATEGORIES:36-NEWBERRY,General
END:VEVENT
BEGIN:VEVENT
DTSTART;TZID=America/New_York:20231107T070000
DTEND;TZID=America/New_York:20231107T190000
DTSTAMP:20260422T183303
CREATED:20230131T193106Z
LAST-MODIFIED:20231106T171149Z
UID:10003210-1699340400-1699383600@scvotes.gov
SUMMARY:City of Newberry General Election
DESCRIPTION:
URL:https://scvotes.gov/event/city-of-newberry-general-election/
CATEGORIES:36-NEWBERRY,General
END:VEVENT
BEGIN:VEVENT
DTSTART;TZID=America/New_York:20230905T070000
DTEND;TZID=America/New_York:20230905T190000
DTSTAMP:20260422T183303
CREATED:20230905T154709Z
LAST-MODIFIED:20231106T170903Z
UID:10003400-1693897200-1693940400@scvotes.gov
SUMMARY:Newberry County Seat 2 Primary
DESCRIPTION:
URL:https://scvotes.gov/event/newberry-county-seat-2-primary/
CATEGORIES:36-NEWBERRY,Primary
END:VEVENT
BEGIN:VEVENT
DTSTART;TZID=America/New_York:20230905T070000
DTEND;TZID=America/New_York:20230905T190000
DTSTAMP:20260422T183303
CREATED:20230802T203728Z
LAST-MODIFIED:20230821T144042Z
UID:10003376-1693897200-1693940400@scvotes.gov
SUMMARY:County Seat 2 Special Election Primary
DESCRIPTION:
URL:https://scvotes.gov/event/county-seat-2-special-election-primary/
CATEGORIES:36-NEWBERRY,Primary
END:VEVENT
BEGIN:VEVENT
DTSTART;TZID=America/New_York:20220614T070000
DTEND;TZID=America/New_York:20220614T190000
DTSTAMP:20260422T183303
CREATED:20220829T210250Z
LAST-MODIFIED:20220829T221325Z
UID:10003113-1655190000-1655233200@scvotes.gov
SUMMARY:Town of Peak General Election
DESCRIPTION:
URL:https://scvotes.gov/event/town-of-peak-general-election/
CATEGORIES:36-NEWBERRY,General
END:VEVENT
BEGIN:VEVENT
DTSTART;TZID=America/New_York:20260422T183303
DTEND;TZID=America/New_York:20260422T183303
DTSTAMP:20260422T183303
CREATED:20260105T181126Z
LAST-MODIFIED:20260105T181129Z
UID:10005515-0-0@scvotes.gov
SUMMARY:Special Election Prosperity
DESCRIPTION:
URL:https://scvotes.gov/event/special-election-prosperity/
CATEGORIES:36-NEWBERRY,Special
END:VEVENT
BEGIN:VEVENT
DTSTART;TZID=America/New_York:20260422T183303
DTEND;TZID=America/New_York:20260422T183303
DTSTAMP:20260422T183303
CREATED:20250513T182428Z
LAST-MODIFIED:20250513T182428Z
UID:10004750-0-0@scvotes.gov
SUMMARY:Town of Prosperity GE 2 TC Seats / Mayor
DESCRIPTION:
URL:https://scvotes.gov/event/town-of-prosperity-ge-2-tc-seats-mayor-2/
CATEGORIES:36-NEWBERRY,General
END:VEVENT
BEGIN:VEVENT
DTSTART;TZID=America/New_York:20260422T183303
DTEND;TZID=America/New_York:20260422T183303
DTSTAMP:20260422T183303
CREATED:20250513T182343Z
LAST-MODIFIED:20251103T195237Z
UID:10004748-0-0@scvotes.gov
SUMMARY:Town of Little Mountain GE 2 TC / Mayor
DESCRIPTION:
URL:https://scvotes.gov/event/town-of-little-mountain-ge-2-tc-mayor-2/
CATEGORIES:36-NEWBERRY,General
END:VEVENT
BEGIN:VEVENT
DTSTART;TZID=America/New_York:20260422T183303
DTEND;TZID=America/New_York:20260422T183303
DTSTAMP:20260422T183303
CREATED:20250513T182103Z
LAST-MODIFIED:20251103T194900Z
UID:10004731-0-0@scvotes.gov
SUMMARY:City of Newberry GE Council Seats 2\,4\,6
DESCRIPTION:
URL:https://scvotes.gov/event/city-of-newberry-ge-council-seats-246-2/
CATEGORIES:36-NEWBERRY,General
END:VEVENT
BEGIN:VEVENT
DTSTART;TZID=America/New_York:20260422T183303
DTEND;TZID=America/New_York:20260422T183303
DTSTAMP:20260422T183303
CREATED:20240819T145222Z
LAST-MODIFIED:20241028T143814Z
UID:10003614-0-0@scvotes.gov
SUMMARY:Town of Whitmire General Election
DESCRIPTION:
URL:https://scvotes.gov/event/town-of-whitmire-general-election/
CATEGORIES:36-NEWBERRY,General
END:VEVENT
BEGIN:VEVENT
DTSTART;TZID=America/New_York:20260422T183303
DTEND;TZID=America/New_York:20260422T183303
DTSTAMP:20260422T183303
CREATED:20240819T145208Z
LAST-MODIFIED:20241028T143639Z
UID:10003612-0-0@scvotes.gov
SUMMARY:Town of Silverstreet General Election
DESCRIPTION:
URL:https://scvotes.gov/event/town-of-silverstreet-general-election/
CATEGORIES:36-NEWBERRY,General
END:VEVENT
END:VCALENDAR