BEGIN:VCALENDAR
VERSION:2.0
PRODID:-//SC Votes - South Carolina Election Commission - ECPv6.14.2//NONSGML v1.0//EN
CALSCALE:GREGORIAN
METHOD:PUBLISH
X-ORIGINAL-URL:https://scvotes.gov
X-WR-CALDESC:Events for SC Votes - South Carolina Election Commission
REFRESH-INTERVAL;VALUE=DURATION:PT1H
X-Robots-Tag:noindex
X-PUBLISHED-TTL:PT1H

BEGIN:VEVENT
DTSTART;TZID=America/New_York:20250603T070000
DTEND;TZID=America/New_York:20250603T190000
DTSTAMP:20260422T132042
CREATED:20250811T190446Z
LAST-MODIFIED:20250813T154312Z
UID:10004852-1748934000-1748977200@scvotes.gov
SUMMARY:State House District 50 Special Election
DESCRIPTION:
URL:https://scvotes.gov/event/state-house-district-50-special-election-sumter-4/
CATEGORIES:28-KERSHAW,31-LEE,43-SUMTER,Special
END:VEVENT
BEGIN:VEVENT
DTSTART;TZID=America/New_York:20250603T070000
DTEND;TZID=America/New_York:20250603T190000
DTSTAMP:20260422T132042
CREATED:20250804T162821Z
LAST-MODIFIED:20250804T162826Z
UID:10004793-1748934000-1748977200@scvotes.gov
SUMMARY:State House District 50 Special Election
DESCRIPTION:
URL:https://scvotes.gov/event/state-house-district-50-special-election-sumter-3/
CATEGORIES:28-KERSHAW,31-LEE,43-SUMTER,Special
END:VEVENT
BEGIN:VEVENT
DTSTART;TZID=America/New_York:20250603T070000
DTEND;TZID=America/New_York:20250603T190000
DTSTAMP:20260422T132042
CREATED:20250310T154110Z
LAST-MODIFIED:20250725T105318Z
UID:10004643-1748934000-1748977200@scvotes.gov
SUMMARY:State House District 50 Special Election
DESCRIPTION:
URL:https://scvotes.gov/event/state-house-district-50-special-election-sumter/
CATEGORIES:43-SUMTER,Special
END:VEVENT
BEGIN:VEVENT
DTSTART;TZID=America/New_York:20250401T070000
DTEND;TZID=America/New_York:20250401T190000
DTSTAMP:20260422T132042
CREATED:20251215T170658Z
LAST-MODIFIED:20251231T131918Z
UID:10005390-1743490800-1743534000@scvotes.gov
SUMMARY:State House District 50 Primary
DESCRIPTION:
URL:https://scvotes.gov/event/state-house-district-50-primary-sumter-14/
CATEGORIES:28-KERSHAW,31-LEE,43-SUMTER,General
END:VEVENT
BEGIN:VEVENT
DTSTART;TZID=America/New_York:20250401T070000
DTEND;TZID=America/New_York:20250401T190000
DTSTAMP:20260422T132042
CREATED:20251114T155500Z
LAST-MODIFIED:20251202T200839Z
UID:10005294-1743490800-1743534000@scvotes.gov
SUMMARY:State House District 50 Primary
DESCRIPTION:
URL:https://scvotes.gov/event/state-house-district-50-primary-sumter-13/
CATEGORIES:28-KERSHAW,31-LEE,43-SUMTER,General
END:VEVENT
BEGIN:VEVENT
DTSTART;TZID=America/New_York:20250401T070000
DTEND;TZID=America/New_York:20250401T190000
DTSTAMP:20260422T132042
CREATED:20251114T153314Z
LAST-MODIFIED:20251114T154832Z
UID:10005235-1743490800-1743534000@scvotes.gov
SUMMARY:State House District 50 Primary
DESCRIPTION:
URL:https://scvotes.gov/event/state-house-district-50-primary-sumter-12/
CATEGORIES:28-KERSHAW,31-LEE,43-SUMTER,General
END:VEVENT
BEGIN:VEVENT
DTSTART;TZID=America/New_York:20250401T070000
DTEND;TZID=America/New_York:20250401T190000
DTSTAMP:20260422T132043
CREATED:20251020T151632Z
LAST-MODIFIED:20251020T151634Z
UID:10005145-1743490800-1743534000@scvotes.gov
SUMMARY:State House District 50 Primary
DESCRIPTION:
URL:https://scvotes.gov/event/state-house-district-50-primary-sumter-10/
CATEGORIES:28-KERSHAW,31-LEE,43-SUMTER,General
END:VEVENT
BEGIN:VEVENT
DTSTART;TZID=America/New_York:20250401T070000
DTEND;TZID=America/New_York:20250401T190000
DTSTAMP:20260422T132043
CREATED:20251006T190448Z
LAST-MODIFIED:20251006T190451Z
UID:10005094-1743490800-1743534000@scvotes.gov
SUMMARY:State House District 50 Primary
DESCRIPTION:
URL:https://scvotes.gov/event/state-house-district-50-primary-sumter-9/
CATEGORIES:28-KERSHAW,31-LEE,43-SUMTER,General
END:VEVENT
BEGIN:VEVENT
DTSTART;TZID=America/New_York:20250401T070000
DTEND;TZID=America/New_York:20250401T190000
DTSTAMP:20260422T132043
CREATED:20250922T153414Z
LAST-MODIFIED:20250922T153417Z
UID:10005046-1743490800-1743534000@scvotes.gov
SUMMARY:State House District 50 Primary
DESCRIPTION:
URL:https://scvotes.gov/event/state-house-district-50-primary-sumter-8/
CATEGORIES:28-KERSHAW,31-LEE,43-SUMTER,General
END:VEVENT
BEGIN:VEVENT
DTSTART;TZID=America/New_York:20250401T070000
DTEND;TZID=America/New_York:20250401T190000
DTSTAMP:20260422T132043
CREATED:20250911T143755Z
LAST-MODIFIED:20250911T165137Z
UID:10005010-1743490800-1743534000@scvotes.gov
SUMMARY:State House District 50 Primary
DESCRIPTION:
URL:https://scvotes.gov/event/state-house-district-50-primary-sumter-7/
CATEGORIES:31-LEE,43-SUMTER,General
END:VEVENT
BEGIN:VEVENT
DTSTART;TZID=America/New_York:20250401T070000
DTEND;TZID=America/New_York:20250401T190000
DTSTAMP:20260422T132043
CREATED:20250911T143747Z
LAST-MODIFIED:20250911T143752Z
UID:10005008-1743490800-1743534000@scvotes.gov
SUMMARY:State House District 50 Primary
DESCRIPTION:
URL:https://scvotes.gov/event/state-house-district-50-primary-kershaw/
CATEGORIES:28-KERSHAW,43-SUMTER,General
END:VEVENT
BEGIN:VEVENT
DTSTART;TZID=America/New_York:20250401T070000
DTEND;TZID=America/New_York:20250401T190000
DTSTAMP:20260422T132043
CREATED:20250908T140713Z
LAST-MODIFIED:20250908T140716Z
UID:10004955-1743490800-1743534000@scvotes.gov
SUMMARY:State House District 50 Primary
DESCRIPTION:
URL:https://scvotes.gov/event/state-house-district-50-primary-sumter-6/
CATEGORIES:28-KERSHAW,31-LEE,43-SUMTER,General
END:VEVENT
BEGIN:VEVENT
DTSTART;TZID=America/New_York:20250401T070000
DTEND;TZID=America/New_York:20250401T190000
DTSTAMP:20260422T132043
CREATED:20250825T144936Z
LAST-MODIFIED:20250827T215851Z
UID:10004900-1743490800-1743534000@scvotes.gov
SUMMARY:State House District 50 Primary
DESCRIPTION:
URL:https://scvotes.gov/event/state-house-district-50-primary-sumter-5/
CATEGORIES:28-KERSHAW,31-LEE,43-SUMTER,General
END:VEVENT
BEGIN:VEVENT
DTSTART;TZID=America/New_York:20250401T070000
DTEND;TZID=America/New_York:20250401T190000
DTSTAMP:20260422T132043
CREATED:20250811T190350Z
LAST-MODIFIED:20250813T154315Z
UID:10004845-1743490800-1743534000@scvotes.gov
SUMMARY:State House District 50 Primary
DESCRIPTION:
URL:https://scvotes.gov/event/state-house-district-50-primary-sumter-4/
CATEGORIES:28-KERSHAW,31-LEE,43-SUMTER,General
END:VEVENT
BEGIN:VEVENT
DTSTART;TZID=America/New_York:20250401T070000
DTEND;TZID=America/New_York:20250401T190000
DTSTAMP:20260422T132043
CREATED:20250804T162647Z
LAST-MODIFIED:20250804T162651Z
UID:10004786-1743490800-1743534000@scvotes.gov
SUMMARY:State House District 50 Primary
DESCRIPTION:
URL:https://scvotes.gov/event/state-house-district-50-primary-sumter-3/
CATEGORIES:28-KERSHAW,31-LEE,43-SUMTER,General
END:VEVENT
BEGIN:VEVENT
DTSTART;TZID=America/New_York:20250401T070000
DTEND;TZID=America/New_York:20250401T190000
DTSTAMP:20260422T132043
CREATED:20250326T144138Z
LAST-MODIFIED:20250725T105318Z
UID:10004654-1743490800-1743534000@scvotes.gov
SUMMARY:State House District 50 Primary
DESCRIPTION:
URL:https://scvotes.gov/event/state-house-district-50-primary-sumter/
CATEGORIES:43-SUMTER,Primary
END:VEVENT
BEGIN:VEVENT
DTSTART;TZID=America/New_York:20250225T070000
DTEND;TZID=America/New_York:20250225T190000
DTSTAMP:20260422T132043
CREATED:20250224T163558Z
LAST-MODIFIED:20251215T170609Z
UID:10004638-1740466800-1740510000@scvotes.gov
SUMMARY:Sumter Co School Board Spec Elect Dist 8
DESCRIPTION:
URL:https://scvotes.gov/event/sumter-co-school-board-spec-elect-dist-8-2/
CATEGORIES:43-SUMTER,Special
END:VEVENT
BEGIN:VEVENT
DTSTART;TZID=America/New_York:20250211T070000
DTEND;TZID=America/New_York:20250211T190000
DTSTAMP:20260422T132043
CREATED:20250102T150526Z
LAST-MODIFIED:20251215T170605Z
UID:10004321-1739257200-1739300400@scvotes.gov
SUMMARY:Sumter Co School Board Spec Elect Dist 8
DESCRIPTION:
URL:https://scvotes.gov/event/sumter-co-school-board-spec-elect-dist-8/
CATEGORIES:43-SUMTER,Special
END:VEVENT
BEGIN:VEVENT
DTSTART;TZID=America/New_York:20241119T070000
DTEND;TZID=America/New_York:20241119T190000
DTSTAMP:20260422T132043
CREATED:20241112T151719Z
LAST-MODIFIED:20241112T151719Z
UID:10004305-1731999600-1732042800@scvotes.gov
SUMMARY:City of Sumter General Election
DESCRIPTION:
URL:https://scvotes.gov/event/city-of-sumter-general-election-3/
CATEGORIES:43-SUMTER,General
END:VEVENT
BEGIN:VEVENT
DTSTART;TZID=America/New_York:20241105T070000
DTEND;TZID=America/New_York:20241105T190000
DTSTAMP:20260422T132043
CREATED:20240724T162513Z
LAST-MODIFIED:20241031T141723Z
UID:10004039-1730790000-1730833200@scvotes.gov
SUMMARY:Town of Pinewood General Election
DESCRIPTION:
URL:https://scvotes.gov/event/town-of-pinewood-general-election-2/
CATEGORIES:43-SUMTER,General
END:VEVENT
BEGIN:VEVENT
DTSTART;TZID=America/New_York:20241105T070000
DTEND;TZID=America/New_York:20241105T190000
DTSTAMP:20260422T132043
CREATED:20240724T162457Z
LAST-MODIFIED:20240724T162457Z
UID:10004037-1730790000-1730833200@scvotes.gov
SUMMARY:Sumter School Board General Election
DESCRIPTION:
URL:https://scvotes.gov/event/sumter-school-board-general-election/
CATEGORIES:43-SUMTER,General
END:VEVENT
BEGIN:VEVENT
DTSTART;TZID=America/New_York:20241105T070000
DTEND;TZID=America/New_York:20241105T190000
DTSTAMP:20260422T132043
CREATED:20240724T162442Z
LAST-MODIFIED:20241031T135628Z
UID:10004031-1730790000-1730833200@scvotes.gov
SUMMARY:City of Sumter General Election
DESCRIPTION:
URL:https://scvotes.gov/event/city-of-sumter-general-election/
CATEGORIES:43-SUMTER,General
END:VEVENT
BEGIN:VEVENT
DTSTART;TZID=America/New_York:20231107T070000
DTEND;TZID=America/New_York:20231107T190000
DTSTAMP:20260422T132043
CREATED:20230821T145038Z
LAST-MODIFIED:20231025T184256Z
UID:10003396-1699340400-1699383600@scvotes.gov
SUMMARY:Town of Mayesville General Election
DESCRIPTION:
URL:https://scvotes.gov/event/town-of-mayesville-general-election/
CATEGORIES:43-SUMTER,General
END:VEVENT
BEGIN:VEVENT
DTSTART;TZID=America/New_York:20231003T070000
DTEND;TZID=America/New_York:20231003T190000
DTSTAMP:20260422T132043
CREATED:20230802T203928Z
LAST-MODIFIED:20231106T170919Z
UID:10003739-1696316400-1696359600@scvotes.gov
SUMMARY:Town of Pinewood Special Election
DESCRIPTION:
URL:https://scvotes.gov/event/town-of-pinewood-special-election/
CATEGORIES:43-SUMTER,General
END:VEVENT
BEGIN:VEVENT
DTSTART;TZID=America/New_York:20230725T070000
DTEND;TZID=America/New_York:20230725T190000
DTSTAMP:20260422T132043
CREATED:20230802T203642Z
LAST-MODIFIED:20231106T170818Z
UID:10003372-1690268400-1690311600@scvotes.gov
SUMMARY:Mayesville Town Council Special Election
DESCRIPTION:
URL:https://scvotes.gov/event/mayesville-town-council-special-election-2/
CATEGORIES:43-SUMTER,Special
END:VEVENT
BEGIN:VEVENT
DTSTART;TZID=America/New_York:20230725T070000
DTEND;TZID=America/New_York:20230725T190000
DTSTAMP:20260422T132043
CREATED:20230614T184122Z
LAST-MODIFIED:20230626T152330Z
UID:10003367-1690268400-1690311600@scvotes.gov
SUMMARY:Mayesville Special Election
DESCRIPTION:
URL:https://scvotes.gov/event/mayesville-special-election/
CATEGORIES:43-SUMTER,Special
END:VEVENT
BEGIN:VEVENT
DTSTART;TZID=America/New_York:20230523T070000
DTEND;TZID=America/New_York:20230523T190000
DTSTAMP:20260422T132043
CREATED:20230303T162654Z
LAST-MODIFIED:20231106T170551Z
UID:10003629-1684825200-1684868400@scvotes.gov
SUMMARY:Mayesville Town Council Special Election
DESCRIPTION:
URL:https://scvotes.gov/event/mayesville-town-council-special-election/
CATEGORIES:43-SUMTER,Special
END:VEVENT
BEGIN:VEVENT
DTSTART;TZID=America/New_York:20221108T070000
DTEND;TZID=America/New_York:20221108T190000
DTSTAMP:20260422T132043
CREATED:20220829T210606Z
LAST-MODIFIED:20220829T221640Z
UID:10003314-1667890800-1667934000@scvotes.gov
SUMMARY:Sumter City Council Ward 1\,3\,5
DESCRIPTION:
URL:https://scvotes.gov/event/sumter-city-council-ward-135/
CATEGORIES:43-SUMTER,General
END:VEVENT
BEGIN:VEVENT
DTSTART;TZID=America/New_York:20221108T070000
DTEND;TZID=America/New_York:20221108T190000
DTSTAMP:20260422T132043
CREATED:20220829T210605Z
LAST-MODIFIED:20220829T221640Z
UID:10003312-1667890800-1667934000@scvotes.gov
SUMMARY:Town of Pinewood General Election
DESCRIPTION:
URL:https://scvotes.gov/event/town-of-pinewood-general-election/
CATEGORIES:43-SUMTER,General
END:VEVENT
BEGIN:VEVENT
DTSTART;TZID=America/New_York:20260422T132043
DTEND;TZID=America/New_York:20260422T132043
DTSTAMP:20260422T132043
CREATED:20251103T194608Z
LAST-MODIFIED:20251103T194616Z
UID:10005201-0-0@scvotes.gov
SUMMARY:State House District 50 Special Election
DESCRIPTION:
URL:https://scvotes.gov/event/state-house-district-50-special-election-sumter-10/
CATEGORIES:28-KERSHAW,31-LEE,43-SUMTER,Special
END:VEVENT
END:VCALENDAR