BEGIN:VCALENDAR
VERSION:2.0
PRODID:-//SC Votes - South Carolina Election Commission - ECPv6.14.2//NONSGML v1.0//EN
CALSCALE:GREGORIAN
METHOD:PUBLISH
X-ORIGINAL-URL:https://scvotes.gov
X-WR-CALDESC:Events for SC Votes - South Carolina Election Commission
REFRESH-INTERVAL;VALUE=DURATION:PT1H
X-Robots-Tag:noindex
X-PUBLISHED-TTL:PT1H

BEGIN:VEVENT
DTSTART;TZID=America/New_York:20260422T183301
DTEND;TZID=America/New_York:20260422T183301
DTSTAMP:20260422T183301
CREATED:20251103T194514Z
LAST-MODIFIED:20251103T194517Z
UID:10005196-0-0@scvotes.gov
SUMMARY:State House District 50 Primary
DESCRIPTION:
URL:https://scvotes.gov/event/state-house-district-50-primary-sumter-11/
CATEGORIES:28-KERSHAW,31-LEE,43-SUMTER,General
END:VEVENT
BEGIN:VEVENT
DTSTART;TZID=America/New_York:20260422T183301
DTEND;TZID=America/New_York:20260422T183301
DTSTAMP:20260422T183301
CREATED:20250513T182150Z
LAST-MODIFIED:20251103T195000Z
UID:10004739-0-0@scvotes.gov
SUMMARY:Mayesville Town Council General Election
DESCRIPTION:
URL:https://scvotes.gov/event/mayesville-town-council-general-election-2/
CATEGORIES:43-SUMTER,General
END:VEVENT
BEGIN:VEVENT
DTSTART;TZID=America/New_York:20260422T183301
DTEND;TZID=America/New_York:20260422T183301
DTSTAMP:20260422T183301
CREATED:20250513T181936Z
LAST-MODIFIED:20250725T105316Z
UID:10004716-0-0@scvotes.gov
SUMMARY:State House District 50 Special Election
DESCRIPTION:
URL:https://scvotes.gov/event/state-house-district-50-special-election-sumter-2/
CATEGORIES:28-KERSHAW,31-LEE,43-SUMTER,Special
END:VEVENT
BEGIN:VEVENT
DTSTART;TZID=America/New_York:20260422T183301
DTEND;TZID=America/New_York:20260422T183301
DTSTAMP:20260422T183301
CREATED:20250513T181857Z
LAST-MODIFIED:20250725T105317Z
UID:10004704-0-0@scvotes.gov
SUMMARY:State House District 50 Primary
DESCRIPTION:
URL:https://scvotes.gov/event/state-house-district-50-primary-sumter-2/
CATEGORIES:28-KERSHAW,31-LEE,43-SUMTER,General
END:VEVENT
BEGIN:VEVENT
DTSTART;TZID=America/New_York:20260422T183301
DTEND;TZID=America/New_York:20260422T183301
DTSTAMP:20260422T183301
CREATED:20250513T181755Z
LAST-MODIFIED:20251103T194429Z
UID:10004685-0-0@scvotes.gov
SUMMARY:Sumter Co School Board Spec Elect Dist 8
DESCRIPTION:
URL:https://scvotes.gov/event/sumter-co-school-board-spec-elect-dist-8-3/
CATEGORIES:43-SUMTER,Special
END:VEVENT
BEGIN:VEVENT
DTSTART;TZID=America/New_York:20260422T183301
DTEND;TZID=America/New_York:20260422T183301
DTSTAMP:20260422T183301
CREATED:20240819T145123Z
LAST-MODIFIED:20241028T143633Z
UID:10003610-0-0@scvotes.gov
SUMMARY:Town of Pinewood General Election
DESCRIPTION:
URL:https://scvotes.gov/event/town-of-pinewood-general-election-3/
CATEGORIES:43-SUMTER,General
END:VEVENT
BEGIN:VEVENT
DTSTART;TZID=America/New_York:20260422T183301
DTEND;TZID=America/New_York:20260422T183301
DTSTAMP:20260422T183301
CREATED:20240819T144725Z
LAST-MODIFIED:20241028T143554Z
UID:10004041-0-0@scvotes.gov
SUMMARY:City of Sumter General Election
DESCRIPTION:
URL:https://scvotes.gov/event/city-of-sumter-general-election-2/
CATEGORIES:43-SUMTER,General
END:VEVENT
END:VCALENDAR